BEGIN:VCALENDAR
VERSION:2.0
PRODID:-//Port of Port Orford - ECPv6.15.20//NONSGML v1.0//EN
CALSCALE:GREGORIAN
METHOD:PUBLISH
X-WR-CALNAME:Port of Port Orford
X-ORIGINAL-URL:https://portofportorford.org
X-WR-CALDESC:Events for Port of Port Orford
REFRESH-INTERVAL;VALUE=DURATION:PT1H
X-Robots-Tag:noindex
X-PUBLISHED-TTL:PT1H
BEGIN:VTIMEZONE
TZID:America/Los_Angeles
BEGIN:DAYLIGHT
TZOFFSETFROM:-0800
TZOFFSETTO:-0700
TZNAME:PDT
DTSTART:20240310T100000
END:DAYLIGHT
BEGIN:STANDARD
TZOFFSETFROM:-0700
TZOFFSETTO:-0800
TZNAME:PST
DTSTART:20241103T090000
END:STANDARD
BEGIN:DAYLIGHT
TZOFFSETFROM:-0800
TZOFFSETTO:-0700
TZNAME:PDT
DTSTART:20250309T100000
END:DAYLIGHT
BEGIN:STANDARD
TZOFFSETFROM:-0700
TZOFFSETTO:-0800
TZNAME:PST
DTSTART:20251102T090000
END:STANDARD
BEGIN:DAYLIGHT
TZOFFSETFROM:-0800
TZOFFSETTO:-0700
TZNAME:PDT
DTSTART:20260308T100000
END:DAYLIGHT
BEGIN:STANDARD
TZOFFSETFROM:-0700
TZOFFSETTO:-0800
TZNAME:PST
DTSTART:20261101T090000
END:STANDARD
END:VTIMEZONE
BEGIN:VEVENT
DTSTART;TZID=America/Los_Angeles:20250527T180000
DTEND;TZID=America/Los_Angeles:20250527T190000
DTSTAMP:20260423T140350
CREATED:20250524T151623Z
LAST-MODIFIED:20251211T231434Z
UID:2161-1748368800-1748372400@portofportorford.org
SUMMARY:Port Budget Committee Meeting
DESCRIPTION:Join us on May 27\, 2025\, for the Port Budget Committee Meeting\, which will be held online and in person at City Hall. The attached agenda provides more details.
URL:https://portofportorford.org/event/port-budget-committee-meeting-2/
LOCATION:Port Orford City Hall\, 555 20th St\, Port Orford\, OR\, 97465\, United States
CATEGORIES:Budgeting
END:VEVENT
END:VCALENDAR