BEGIN:VCALENDAR
VERSION:2.0
PRODID:-//Port of Port Orford - ECPv6.15.20//NONSGML v1.0//EN
CALSCALE:GREGORIAN
METHOD:PUBLISH
X-WR-CALNAME:Port of Port Orford
X-ORIGINAL-URL:https://portofportorford.org
X-WR-CALDESC:Events for Port of Port Orford
REFRESH-INTERVAL;VALUE=DURATION:PT1H
X-Robots-Tag:noindex
X-PUBLISHED-TTL:PT1H
BEGIN:VTIMEZONE
TZID:America/Los_Angeles
BEGIN:DAYLIGHT
TZOFFSETFROM:-0800
TZOFFSETTO:-0700
TZNAME:PDT
DTSTART:20210314T100000
END:DAYLIGHT
BEGIN:STANDARD
TZOFFSETFROM:-0700
TZOFFSETTO:-0800
TZNAME:PST
DTSTART:20211107T090000
END:STANDARD
BEGIN:DAYLIGHT
TZOFFSETFROM:-0800
TZOFFSETTO:-0700
TZNAME:PDT
DTSTART:20220313T100000
END:DAYLIGHT
BEGIN:STANDARD
TZOFFSETFROM:-0700
TZOFFSETTO:-0800
TZNAME:PST
DTSTART:20221106T090000
END:STANDARD
BEGIN:DAYLIGHT
TZOFFSETFROM:-0800
TZOFFSETTO:-0700
TZNAME:PDT
DTSTART:20230312T100000
END:DAYLIGHT
BEGIN:STANDARD
TZOFFSETFROM:-0700
TZOFFSETTO:-0800
TZNAME:PST
DTSTART:20231105T090000
END:STANDARD
BEGIN:DAYLIGHT
TZOFFSETFROM:-0800
TZOFFSETTO:-0700
TZNAME:PDT
DTSTART:20240310T100000
END:DAYLIGHT
BEGIN:STANDARD
TZOFFSETFROM:-0700
TZOFFSETTO:-0800
TZNAME:PST
DTSTART:20241103T090000
END:STANDARD
BEGIN:DAYLIGHT
TZOFFSETFROM:-0800
TZOFFSETTO:-0700
TZNAME:PDT
DTSTART:20250309T100000
END:DAYLIGHT
BEGIN:STANDARD
TZOFFSETFROM:-0700
TZOFFSETTO:-0800
TZNAME:PST
DTSTART:20251102T090000
END:STANDARD
BEGIN:DAYLIGHT
TZOFFSETFROM:-0800
TZOFFSETTO:-0700
TZNAME:PDT
DTSTART:20260308T100000
END:DAYLIGHT
BEGIN:STANDARD
TZOFFSETFROM:-0700
TZOFFSETTO:-0800
TZNAME:PST
DTSTART:20261101T090000
END:STANDARD
END:VTIMEZONE
BEGIN:VEVENT
DTSTART;TZID=America/Los_Angeles:20251118T180000
DTEND;TZID=America/Los_Angeles:20251118T200000
DTSTAMP:20260423T123959
CREATED:20251114T221920Z
LAST-MODIFIED:20260121T203238Z
UID:10000045-1763488800-1763496000@portofportorford.org
SUMMARY:Port Regular Commission Meeting November 18\, 2025\, 6PM
DESCRIPTION:Join us for the November Regular Port Commission Meeting. Held online or in-person at City Hall. See the agenda for more details.
URL:https://portofportorford.org/event/port-regular-commission-meeting-november-18-2025-6pm/
LOCATION:Port Orford City Hall\, 555 20th St\, Port Orford\, OR\, 97465\, United States
CATEGORIES:Port Commission
END:VEVENT
BEGIN:VEVENT
DTSTART;TZID=America/Los_Angeles:20251105T120000
DTEND;TZID=America/Los_Angeles:20251105T140000
DTSTAMP:20260423T123959
CREATED:20251103T184138Z
LAST-MODIFIED:20251222T205846Z
UID:10000044-1762344000-1762351200@portofportorford.org
SUMMARY:Port Special Commission Meeting
DESCRIPTION:Join us for a November Special Port Commission Meeting to discuss lease agreements and surplus items. The meeting will be held online or in person at the Port Orford Public Library. See the agenda for details.
URL:https://portofportorford.org/event/port-special-commission-meeting-7/
LOCATION:Port Orford Public Library\, 1421 Oregon St\, Port Orford\, 97465\, United States
CATEGORIES:Port Commission
END:VEVENT
BEGIN:VEVENT
DTSTART;TZID=America/Los_Angeles:20251021T180000
DTEND;TZID=America/Los_Angeles:20251021T200000
DTSTAMP:20260423T123959
CREATED:20251018T220654Z
LAST-MODIFIED:20251211T232455Z
UID:10000043-1761069600-1761076800@portofportorford.org
SUMMARY:Port Regular Commission Meeting October 21\, 2025\, 6PM
DESCRIPTION:Join us for the October Regular Port Commission Meeting. Held online or in-person at City Hall. See the agenda for more details.
URL:https://portofportorford.org/event/port-regular-commission-meeting-october-21-2025-6pm/
LOCATION:Port Orford City Hall\, 555 20th St\, Port Orford\, OR\, 97465\, United States
CATEGORIES:Port Commission
END:VEVENT
BEGIN:VEVENT
DTSTART;TZID=America/Los_Angeles:20250923T100000
DTEND;TZID=America/Los_Angeles:20250923T110000
DTSTAMP:20260423T123959
CREATED:20250922T164245Z
LAST-MODIFIED:20251211T232247Z
UID:10000040-1758621600-1758625200@portofportorford.org
SUMMARY:Port Commission Workshop
DESCRIPTION:Join the Port of Port Orford Commission for a Workshop to discuss OSHA variance application questions. See agenda for more details.
URL:https://portofportorford.org/event/port-commission-workshop/
LOCATION:Port Orford Public Library\, 1421 Oregon St\, Port Orford\, 97465\, United States
CATEGORIES:Port Commission
END:VEVENT
BEGIN:VEVENT
DTSTART;TZID=America/Los_Angeles:20250915T180000
DTEND;TZID=America/Los_Angeles:20250915T200000
DTSTAMP:20260423T123959
CREATED:20250903T181710Z
LAST-MODIFIED:20251211T232154Z
UID:10000038-1757959200-1757966400@portofportorford.org
SUMMARY:Port Regular Commission Meeting September 15\, 2025\, 6PM
DESCRIPTION:Join us for the September Regular Port Commission Meeting. Held online or in-person at City Hall. See the agenda for more details.
URL:https://portofportorford.org/event/port-regular-commission-meeting-september-15-2025-6pm/
LOCATION:Port Orford City Hall\, 555 20th St\, Port Orford\, OR\, 97465\, United States
CATEGORIES:Port Commission
END:VEVENT
BEGIN:VEVENT
DTSTART;TZID=America/Los_Angeles:20250829T180000
DTEND;TZID=America/Los_Angeles:20250829T190000
DTSTAMP:20260423T123959
CREATED:20250828T191636Z
LAST-MODIFIED:20251211T232111Z
UID:10000037-1756490400-1756494000@portofportorford.org
SUMMARY:Port Special Commission Meeting
DESCRIPTION:Join us for an August Special Port Commission Meeting to discuss the Crane Replacement Project and more. The meeting will be held online or in person at City Hall. See the agenda for details.
URL:https://portofportorford.org/event/port-special-commission-meeting-6/
LOCATION:Port Orford City Hall\, 555 20th St\, Port Orford\, OR\, 97465\, United States
CATEGORIES:Port Commission
END:VEVENT
BEGIN:VEVENT
DTSTART;TZID=America/Los_Angeles:20250819T180000
DTEND;TZID=America/Los_Angeles:20250819T200000
DTSTAMP:20260423T123959
CREATED:20250815T233546Z
LAST-MODIFIED:20251211T232025Z
UID:10000036-1755626400-1755633600@portofportorford.org
SUMMARY:Port Regular Commission Meeting August 19\, 2025\, 6PM
DESCRIPTION:Join us for the August Regular Port Commission Meeting. Held online or in-person at City Hall. See agenda for more details.
URL:https://portofportorford.org/event/port-regular-commission-meeting-august-19-2025-6pm/
LOCATION:Port Orford City Hall\, 555 20th St\, Port Orford\, OR\, 97465\, United States
CATEGORIES:Port Commission
END:VEVENT
BEGIN:VEVENT
DTSTART;TZID=America/Los_Angeles:20250805T180000
DTEND;TZID=America/Los_Angeles:20250805T190000
DTSTAMP:20260423T123959
CREATED:20250731T224246Z
LAST-MODIFIED:20251211T231909Z
UID:10000034-1754416800-1754420400@portofportorford.org
SUMMARY:Port Special Commission Meeting
DESCRIPTION:Join us for an August Special Port Commission Meeting to discuss the Crane Replacement Project and more. The meeting will be held online or in person at the OSU Port Orford Field Station. See the agenda for details.
URL:https://portofportorford.org/event/port-special-commission-meeting-5/
LOCATION:OSU Port Orford Field Station\, 444 Jackson Street\, Port Orford\, OR\, 97465\, United States
CATEGORIES:Port Commission
END:VEVENT
BEGIN:VEVENT
DTSTART;TZID=America/Los_Angeles:20250722T180000
DTEND;TZID=America/Los_Angeles:20250722T190000
DTSTAMP:20260423T123959
CREATED:20250716T174249Z
LAST-MODIFIED:20251211T231816Z
UID:10000033-1753207200-1753210800@portofportorford.org
SUMMARY:Port Special Commission Meeting
DESCRIPTION:Join us for a July Special Port Commission Meeting to discuss utility hoist procurement and ice machines. The meeting will be held online or in person at the OSU Port Orford Field Station. See the agenda for details.
URL:https://portofportorford.org/event/port-special-commission-meeting-4/
LOCATION:OSU Port Orford Field Station\, 444 Jackson Street\, Port Orford\, OR\, 97465\, United States
CATEGORIES:Port Commission
END:VEVENT
BEGIN:VEVENT
DTSTART;TZID=America/Los_Angeles:20250715T180000
DTEND;TZID=America/Los_Angeles:20250715T200000
DTSTAMP:20260423T123959
CREATED:20250710T210502Z
LAST-MODIFIED:20260121T203159Z
UID:10000031-1752602400-1752609600@portofportorford.org
SUMMARY:Port Regular Commission Meeting July 15\, 2025\, 6PM
DESCRIPTION:Join us for the July Regular Port Commission Meeting. Held online or in-person at City Hall. See agenda for more details.
URL:https://portofportorford.org/event/port-regular-commission-meeting-july-15-2025-6pm/
LOCATION:Port Orford City Hall\, 555 20th St\, Port Orford\, OR\, 97465\, United States
CATEGORIES:Port Commission
END:VEVENT
BEGIN:VEVENT
DTSTART;TZID=America/Los_Angeles:20250715T171500
DTEND;TZID=America/Los_Angeles:20250715T180000
DTSTAMP:20260423T123959
CREATED:20250713T202322Z
LAST-MODIFIED:20250713T202322Z
UID:10000032-1752599700-1752602400@portofportorford.org
SUMMARY:Port Commission Workshop\, July 15\, 2025\, 5:15pm
DESCRIPTION:Join us for the Port Commission Workshop to walk the dock and discuss product hoists. Held in person at the Port. See the agenda for more details.
URL:https://portofportorford.org/event/port-commission-workshop-july-15-2025-515pm/
LOCATION:Port of Port Orford\, 300 Dock Road\, Port Orford\, 97465\, United States
CATEGORIES:Port Commission
END:VEVENT
BEGIN:VEVENT
DTSTART;TZID=America/Los_Angeles:20250710T150000
DTEND;TZID=America/Los_Angeles:20250710T180000
DTSTAMP:20260423T123959
CREATED:20250707T213207Z
LAST-MODIFIED:20251211T231735Z
UID:10000030-1752159600-1752170400@portofportorford.org
SUMMARY:Port Special Commission Meeting
DESCRIPTION:Join us for a July Special Port Commission Meeting to discuss product hoists and the Energy Technology Innovation Partnership Project (ETIPP). The meeting will be held online or in person at the OSU Port Orford Field Station. See the agenda for details.
URL:https://portofportorford.org/event/port-special-commission-meeting-3/
LOCATION:OSU Port Orford Field Station\, 444 Jackson Street\, Port Orford\, OR\, 97465\, United States
CATEGORIES:Port Commission
END:VEVENT
BEGIN:VEVENT
DTSTART;TZID=America/Los_Angeles:20250617T180000
DTEND;TZID=America/Los_Angeles:20250617T200000
DTSTAMP:20260423T123959
CREATED:20250605T012352Z
LAST-MODIFIED:20251222T205925Z
UID:10000026-1750183200-1750190400@portofportorford.org
SUMMARY:Port Regular Commission Meeting June 17\, 2025\, 6PM
DESCRIPTION:Join us for the June Regular Port Commission Meeting. Held online or in-person at City Hall. See agenda for more details.
URL:https://portofportorford.org/event/port-regular-commission-meeting-june-17-2025-6pm/
LOCATION:Port Orford City Hall\, 555 20th St\, Port Orford\, OR\, 97465\, United States
CATEGORIES:Port Commission
END:VEVENT
BEGIN:VEVENT
DTSTART;TZID=America/Los_Angeles:20250610T173000
DTEND;TZID=America/Los_Angeles:20250610T180000
DTSTAMP:20260423T123959
CREATED:20250606T224154Z
LAST-MODIFIED:20250709T203244Z
UID:10000027-1749576600-1749578400@portofportorford.org
SUMMARY:Port Special Commission Meeting
DESCRIPTION:Join us for a June Special Port Commission Meeting to discuss audits. The meeting will be held online or in person at the OSU Port Orford Field Station. See the agenda for details.
URL:https://portofportorford.org/event/port-special-commission-meeting-2/
LOCATION:OSU Port Orford Field Station\, 444 Jackson Street\, Port Orford\, OR\, 97465\, United States
CATEGORIES:Port Commission
END:VEVENT
BEGIN:VEVENT
DTSTART;TZID=America/Los_Angeles:20250603T180000
DTEND;TZID=America/Los_Angeles:20250603T200000
DTSTAMP:20260423T123959
CREATED:20250602T231555Z
LAST-MODIFIED:20250709T203255Z
UID:10000024-1748973600-1748980800@portofportorford.org
SUMMARY:Special Commission Meeting / Redevelopment Committee Workshop
DESCRIPTION:
URL:https://portofportorford.org/event/special-commission-meeting-redevelopment-committee-workshop/
LOCATION:OSU Port Orford Field Station\, 444 Jackson Street\, Port Orford\, OR\, 97465\, United States
CATEGORIES:Port Commission,Port Development
END:VEVENT
BEGIN:VEVENT
DTSTART;TZID=America/Los_Angeles:20250527T170000
DTEND;TZID=America/Los_Angeles:20250527T180000
DTSTAMP:20260423T123959
CREATED:20250524T151323Z
LAST-MODIFIED:20251211T231339Z
UID:10000022-1748365200-1748368800@portofportorford.org
SUMMARY:Port Special Commission Meeting
DESCRIPTION:Join us for the May Special Port Commission Meeting to discuss OSHA variances and the fuel cubes. The meeting will be held online or in person at City Hall. See the agenda for details.
URL:https://portofportorford.org/event/port-special-commission-meeting/
LOCATION:Port Orford City Hall\, 555 20th St\, Port Orford\, OR\, 97465\, United States
CATEGORIES:Port Commission
END:VEVENT
BEGIN:VEVENT
DTSTART;TZID=America/Los_Angeles:20250521T180000
DTEND;TZID=America/Los_Angeles:20250521T190000
DTSTAMP:20260423T123959
CREATED:20250519T175534Z
LAST-MODIFIED:20251211T231252Z
UID:10000021-1747850400-1747854000@portofportorford.org
SUMMARY:Port Special Commission Meeting
DESCRIPTION:Join us for the May Special Port Commission Meeting. Held online or in-person at the OSU Port Orford Field Station. See the agenda for details.
URL:https://portofportorford.org/event/port-special-commission-meeting-may-21-2025-6pm/
LOCATION:OSU Port Orford Field Station\, 444 Jackson Street\, Port Orford\, OR\, 97465\, United States
CATEGORIES:Port Commission
END:VEVENT
BEGIN:VEVENT
DTSTART;TZID=America/Los_Angeles:20250513T180000
DTEND;TZID=America/Los_Angeles:20250513T200000
DTSTAMP:20260423T123959
CREATED:20250507T200740Z
LAST-MODIFIED:20260121T203414Z
UID:10000019-1747159200-1747166400@portofportorford.org
SUMMARY:Port Regular Commission Meeting May 13\, 2025\, 6PM
DESCRIPTION:Join us for the May Regular Port Commission Meeting. Held online or in-person at the Port Office Conference Room. See the agenda for details.
URL:https://portofportorford.org/event/port-of-port-orford-regular-commission-meeting-may-132025-6pm/
LOCATION:Port Office (Conference Room)\, 300 Dock Road\, Port Orford\, OR\, 97465\, United States
CATEGORIES:Port Commission
END:VEVENT
BEGIN:VEVENT
DTSTART;TZID=America/Los_Angeles:20250501T180000
DTEND;TZID=America/Los_Angeles:20250501T184500
DTSTAMP:20260423T123959
CREATED:20250416T232617Z
LAST-MODIFIED:20251211T232620Z
UID:10000017-1746122400-1746125100@portofportorford.org
SUMMARY:Port Commission Special Meeting\, May 1\, 2025
DESCRIPTION:Join us for the May 1\, 2025 Port Commission Special Meeting. Held online or in person at the Port Office. See agenda for details.
URL:https://portofportorford.org/event/port-of-port-orford-port-commission-special-meeting-may-1-2025/
LOCATION:Port Office (Conference Room)\, 300 Dock Road\, Port Orford\, OR\, 97465\, United States
CATEGORIES:Port Commission
END:VEVENT
BEGIN:VEVENT
DTSTART;TZID=America/Los_Angeles:20250415T180000
DTEND;TZID=America/Los_Angeles:20250415T200000
DTSTAMP:20260423T123959
CREATED:20250410T204344Z
LAST-MODIFIED:20250709T203409Z
UID:10000016-1744740000-1744747200@portofportorford.org
SUMMARY:Port of Port Orford Regular Commission Meeting April 15\,2025\, 6PM
DESCRIPTION:Join us for the April Regular Port Commission Meeting. Held online or in-person at City Hall. See agenda for details.
URL:https://portofportorford.org/event/port-of-port-orford-regular-commission-meeting-april-152025-6pm/
LOCATION:Port Orford City Hall\, 555 20th St\, Port Orford\, OR\, 97465\, United States
CATEGORIES:Port Commission
END:VEVENT
BEGIN:VEVENT
DTSTART;TZID=America/Los_Angeles:20250408T123000
DTEND;TZID=America/Los_Angeles:20250408T133000
DTSTAMP:20260423T123959
CREATED:20250407T181451Z
LAST-MODIFIED:20251211T230710Z
UID:10000014-1744115400-1744119000@portofportorford.org
SUMMARY:Port of Port Orford Port Commission Special Meeting
DESCRIPTION:Join us on April 8th\, 2025\, at 12:30 pm for a Port of Port Orford Commission Special Meeting. The meeting will take place at the Port Office Conference Room to discuss the recent rigging failures and more. See the agenda for more details.
URL:https://portofportorford.org/event/port-of-port-orford-port-commission-special-meeting/
LOCATION:Port Office (Conference Room)\, 300 Dock Road\, Port Orford\, OR\, 97465\, United States
CATEGORIES:Port Commission
END:VEVENT
BEGIN:VEVENT
DTSTART;TZID=America/Los_Angeles:20250318T180000
DTEND;TZID=America/Los_Angeles:20250318T210000
DTSTAMP:20260423T123959
CREATED:20250306T172227Z
LAST-MODIFIED:20250709T203428Z
UID:10000012-1742320800-1742331600@portofportorford.org
SUMMARY:Port of Port Orford Regular Commission Meeting March 18\,2025\, 6PM
DESCRIPTION:
URL:https://portofportorford.org/event/port-of-port-orford-regular-commission-meeting-march-182025-6pm/
LOCATION:Port Orford City Hall\, 555 20th St\, Port Orford\, OR\, 97465\, United States
CATEGORIES:Port Commission
END:VEVENT
BEGIN:VEVENT
DTSTART;TZID=America/Los_Angeles:20250218T180000
DTEND;TZID=America/Los_Angeles:20250218T210000
DTSTAMP:20260423T123959
CREATED:20250222T030752Z
LAST-MODIFIED:20250709T203452Z
UID:10000010-1739901600-1739912400@portofportorford.org
SUMMARY:February Regular Port Commission Meeting
DESCRIPTION:
URL:https://portofportorford.org/event/february-regular-port-commission-meeting/
LOCATION:Port Orford City Hall\, 555 20th St\, Port Orford\, OR\, 97465\, United States
CATEGORIES:Port Commission
END:VEVENT
BEGIN:VEVENT
DTSTART;VALUE=DATE:20250207
DTEND;VALUE=DATE:20250208
DTSTAMP:20260423T123959
CREATED:20250222T030258Z
LAST-MODIFIED:20250709T203506Z
UID:10000008-1738886400-1738972799@portofportorford.org
SUMMARY:Port Commission Special Meeting
DESCRIPTION:
URL:https://portofportorford.org/event/port-commission-special-meeting/
LOCATION:OR
CATEGORIES:Port Commission
END:VEVENT
BEGIN:VEVENT
DTSTART;VALUE=DATE:20230124
DTEND;VALUE=DATE:20230125
DTSTAMP:20260423T123959
CREATED:20250222T030502Z
LAST-MODIFIED:20250709T203520Z
UID:10000009-1674518400-1674604799@portofportorford.org
SUMMARY:Port Commission Regular Meeting
DESCRIPTION:
URL:https://portofportorford.org/event/port-commission-regular-meeting/
LOCATION:OR
CATEGORIES:Port Commission
END:VEVENT
BEGIN:VEVENT
DTSTART;TZID=America/Los_Angeles:20220816T180000
DTEND;TZID=America/Los_Angeles:20220816T193000
DTSTAMP:20260423T123959
CREATED:20220710T225421Z
LAST-MODIFIED:20250709T203541Z
UID:10000003-1660672800-1660678200@portofportorford.org
SUMMARY:Commission Meeting
DESCRIPTION:Gable Chambers
URL:https://portofportorford.org/event/commission-meeting-2/
LOCATION:Port Orford City Hall\, 555 20th St\, Port Orford\, OR\, 97465\, United States
CATEGORIES:Port Commission
END:VEVENT
BEGIN:VEVENT
DTSTART;TZID=America/Los_Angeles:20220719T110000
DTEND;TZID=America/Los_Angeles:20220719T123000
DTSTAMP:20260423T123959
CREATED:20220711T053126Z
LAST-MODIFIED:20250709T203547Z
UID:10000004-1658228400-1658233800@portofportorford.org
SUMMARY:Commission Meeting
DESCRIPTION:Gable Chambers
URL:https://portofportorford.org/event/commission-meeting/
LOCATION:Port Orford City Hall\, 555 20th St\, Port Orford\, OR\, 97465\, United States
CATEGORIES:Port Commission
END:VEVENT
END:VCALENDAR