BEGIN:VCALENDAR
VERSION:2.0
PRODID:-//Port of Port Orford - ECPv6.15.20//NONSGML v1.0//EN
CALSCALE:GREGORIAN
METHOD:PUBLISH
X-WR-CALNAME:Port of Port Orford
X-ORIGINAL-URL:https://portofportorford.org
X-WR-CALDESC:Events for Port of Port Orford
REFRESH-INTERVAL;VALUE=DURATION:PT1H
X-Robots-Tag:noindex
X-PUBLISHED-TTL:PT1H
BEGIN:VTIMEZONE
TZID:America/Los_Angeles
BEGIN:DAYLIGHT
TZOFFSETFROM:-0800
TZOFFSETTO:-0700
TZNAME:PDT
DTSTART:20250309T100000
END:DAYLIGHT
BEGIN:STANDARD
TZOFFSETFROM:-0700
TZOFFSETTO:-0800
TZNAME:PST
DTSTART:20251102T090000
END:STANDARD
BEGIN:DAYLIGHT
TZOFFSETFROM:-0800
TZOFFSETTO:-0700
TZNAME:PDT
DTSTART:20260308T100000
END:DAYLIGHT
BEGIN:STANDARD
TZOFFSETFROM:-0700
TZOFFSETTO:-0800
TZNAME:PST
DTSTART:20261101T090000
END:STANDARD
BEGIN:DAYLIGHT
TZOFFSETFROM:-0800
TZOFFSETTO:-0700
TZNAME:PDT
DTSTART:20270314T100000
END:DAYLIGHT
BEGIN:STANDARD
TZOFFSETFROM:-0700
TZOFFSETTO:-0800
TZNAME:PST
DTSTART:20271107T090000
END:STANDARD
END:VTIMEZONE
BEGIN:VEVENT
DTSTART;TZID=America/Los_Angeles:20260407T180000
DTEND;TZID=America/Los_Angeles:20260407T190000
DTSTAMP:20260423T105915
CREATED:20260402T015657Z
LAST-MODIFIED:20260404T042142Z
UID:10000060-1775584800-1775588400@portofportorford.org
SUMMARY:Port Revitalization Committee Workshop
DESCRIPTION:The Redevelopment Committee holds monthly meetings to ensure continuous progress and integration of redevelopment projects\, which comprise the Port’s Revitalization Program\, “Revitalizing Port Orford’s Working Waterfront\,” as outlined in the Port’s Capital Improvement Plan Priorities for 2026. \nJoin us for the April Workshop\, held at the Port Orford Field Station\, to hear revitalization project updates and participate in the kickoff of the Seawater System project.
URL:https://portofportorford.org/event/port-revitalization-committee-workshop-4/
LOCATION:OSU Port Orford Field Station\, 444 Jackson Street\, Port Orford\, OR\, 97465\, United States
CATEGORIES:Port Development
END:VEVENT
END:VCALENDAR