BEGIN:VCALENDAR
VERSION:2.0
PRODID:-//Port of Port Orford - ECPv6.15.20//NONSGML v1.0//EN
CALSCALE:GREGORIAN
METHOD:PUBLISH
X-ORIGINAL-URL:https://portofportorford.org
X-WR-CALDESC:Events for Port of Port Orford
REFRESH-INTERVAL;VALUE=DURATION:PT1H
X-Robots-Tag:noindex
X-PUBLISHED-TTL:PT1H
BEGIN:VTIMEZONE
TZID:America/Los_Angeles
BEGIN:DAYLIGHT
TZOFFSETFROM:-0800
TZOFFSETTO:-0700
TZNAME:PDT
DTSTART:20210314T100000
END:DAYLIGHT
BEGIN:STANDARD
TZOFFSETFROM:-0700
TZOFFSETTO:-0800
TZNAME:PST
DTSTART:20211107T090000
END:STANDARD
BEGIN:DAYLIGHT
TZOFFSETFROM:-0800
TZOFFSETTO:-0700
TZNAME:PDT
DTSTART:20220313T100000
END:DAYLIGHT
BEGIN:STANDARD
TZOFFSETFROM:-0700
TZOFFSETTO:-0800
TZNAME:PST
DTSTART:20221106T090000
END:STANDARD
BEGIN:DAYLIGHT
TZOFFSETFROM:-0800
TZOFFSETTO:-0700
TZNAME:PDT
DTSTART:20230312T100000
END:DAYLIGHT
BEGIN:STANDARD
TZOFFSETFROM:-0700
TZOFFSETTO:-0800
TZNAME:PST
DTSTART:20231105T090000
END:STANDARD
BEGIN:DAYLIGHT
TZOFFSETFROM:-0800
TZOFFSETTO:-0700
TZNAME:PDT
DTSTART:20240310T100000
END:DAYLIGHT
BEGIN:STANDARD
TZOFFSETFROM:-0700
TZOFFSETTO:-0800
TZNAME:PST
DTSTART:20241103T090000
END:STANDARD
BEGIN:DAYLIGHT
TZOFFSETFROM:-0800
TZOFFSETTO:-0700
TZNAME:PDT
DTSTART:20250309T100000
END:DAYLIGHT
BEGIN:STANDARD
TZOFFSETFROM:-0700
TZOFFSETTO:-0800
TZNAME:PST
DTSTART:20251102T090000
END:STANDARD
BEGIN:DAYLIGHT
TZOFFSETFROM:-0800
TZOFFSETTO:-0700
TZNAME:PDT
DTSTART:20260308T100000
END:DAYLIGHT
BEGIN:STANDARD
TZOFFSETFROM:-0700
TZOFFSETTO:-0800
TZNAME:PST
DTSTART:20261101T090000
END:STANDARD
END:VTIMEZONE
BEGIN:VEVENT
DTSTART;TZID=America/Los_Angeles:20250408T123000
DTEND;TZID=America/Los_Angeles:20250408T133000
DTSTAMP:20260423T135431
CREATED:20250407T181451Z
LAST-MODIFIED:20251211T230710Z
UID:10000014-1744115400-1744119000@portofportorford.org
SUMMARY:Port of Port Orford Port Commission Special Meeting
DESCRIPTION:Join us on April 8th\, 2025\, at 12:30 pm for a Port of Port Orford Commission Special Meeting. The meeting will take place at the Port Office Conference Room to discuss the recent rigging failures and more. See the agenda for more details.
URL:https://portofportorford.org/event/port-of-port-orford-port-commission-special-meeting/
LOCATION:Port Office (Conference Room)\, 300 Dock Road\, Port Orford\, OR\, 97465\, United States
CATEGORIES:Port Commission
END:VEVENT
BEGIN:VEVENT
DTSTART;TZID=America/Los_Angeles:20250318T180000
DTEND;TZID=America/Los_Angeles:20250318T210000
DTSTAMP:20260423T135431
CREATED:20250306T172227Z
LAST-MODIFIED:20250709T203428Z
UID:10000012-1742320800-1742331600@portofportorford.org
SUMMARY:Port of Port Orford Regular Commission Meeting March 18\,2025\, 6PM
DESCRIPTION:
URL:https://portofportorford.org/event/port-of-port-orford-regular-commission-meeting-march-182025-6pm/
LOCATION:Port Orford City Hall\, 555 20th St\, Port Orford\, OR\, 97465\, United States
CATEGORIES:Port Commission
END:VEVENT
BEGIN:VEVENT
DTSTART;TZID=America/Los_Angeles:20250313T173000
DTEND;TZID=America/Los_Angeles:20250313T180000
DTSTAMP:20260423T135431
CREATED:20250310T204355Z
LAST-MODIFIED:20250709T203434Z
UID:10000013-1741887000-1741888800@portofportorford.org
SUMMARY:Port of Port Orford Crane Installation Bid Package Opening
DESCRIPTION:Immediately following the close of the bidding process\, on Thursday\, 3/13/2025 at 5:30PM\, for the Port of Port Orford Crane Installation Project there will be a public opening of the bid packages in the conference room at the port office located at 300 Dock Rd\, Port Orford OR 97465. \nThe public is welcome to attend.
URL:https://portofportorford.org/event/port-of-port-orford-crane-installation-bid-package-opening/
LOCATION:OR
CATEGORIES:Port Development
END:VEVENT
BEGIN:VEVENT
DTSTART;TZID=America/Los_Angeles:20250304T180000
DTEND;TZID=America/Los_Angeles:20250304T190000
DTSTAMP:20260423T135431
CREATED:20250303T231802Z
LAST-MODIFIED:20250709T203443Z
UID:10000011-1741111200-1741114800@portofportorford.org
SUMMARY:March Port Redevelopment Committee Meeting
DESCRIPTION:The Redevelopment Committee holds monthly meetings to ensure continuous progress and integration of redevelopment projects which comprise the Port’s Redevelopment Program\, “Revitalizing Port Orford’s Working Waterfront\,” as outlined in the Port’s Capital Improvement Plan Priorities for 2025.
URL:https://portofportorford.org/event/march-port-redevelopment-committee-meeting/
LOCATION:Port Orford City Hall\, 555 20th St\, Port Orford\, OR\, 97465\, United States
CATEGORIES:Port Development
END:VEVENT
BEGIN:VEVENT
DTSTART;TZID=America/Los_Angeles:20250218T180000
DTEND;TZID=America/Los_Angeles:20250218T210000
DTSTAMP:20260423T135431
CREATED:20250222T030752Z
LAST-MODIFIED:20250709T203452Z
UID:10000010-1739901600-1739912400@portofportorford.org
SUMMARY:February Regular Port Commission Meeting
DESCRIPTION:
URL:https://portofportorford.org/event/february-regular-port-commission-meeting/
LOCATION:Port Orford City Hall\, 555 20th St\, Port Orford\, OR\, 97465\, United States
CATEGORIES:Port Commission
END:VEVENT
BEGIN:VEVENT
DTSTART;TZID=America/Los_Angeles:20250211T180000
DTEND;TZID=America/Los_Angeles:20250211T210000
DTSTAMP:20260423T135431
CREATED:20250222T022847Z
LAST-MODIFIED:20250709T203500Z
UID:10000005-1739296800-1739307600@portofportorford.org
SUMMARY:February Port Redevelopment Committee Meeting
DESCRIPTION:The Redevelopment Committee holds monthly meetings to ensure continuous progress and integration of redevelopment projects which comprise the Port’s Redevelopment Program\, “Revitalizing Port Orford’s Working Waterfront” as outlined in the Port’s Capital Improvement Plan Priorities for 2025.
URL:https://portofportorford.org/event/february-port-redevelopment-committee-meeting/
LOCATION:Port Orford City Hall\, 555 20th St\, Port Orford\, OR\, 97465\, United States
CATEGORIES:Port Development
END:VEVENT
BEGIN:VEVENT
DTSTART;VALUE=DATE:20250207
DTEND;VALUE=DATE:20250208
DTSTAMP:20260423T135431
CREATED:20250222T030258Z
LAST-MODIFIED:20250709T203506Z
UID:10000008-1738886400-1738972799@portofportorford.org
SUMMARY:Port Commission Special Meeting
DESCRIPTION:
URL:https://portofportorford.org/event/port-commission-special-meeting/
LOCATION:OR
CATEGORIES:Port Commission
END:VEVENT
BEGIN:VEVENT
DTSTART;VALUE=DATE:20250107
DTEND;VALUE=DATE:20250108
DTSTAMP:20260423T135431
CREATED:20250222T030143Z
LAST-MODIFIED:20250709T203511Z
UID:10000007-1736208000-1736294399@portofportorford.org
SUMMARY:Port of Port Orford Redevelopment Committee Meeting
DESCRIPTION:
URL:https://portofportorford.org/event/port-of-port-orford-redevelopment-committee-meeting/
LOCATION:OR
CATEGORIES:Port Development
END:VEVENT
BEGIN:VEVENT
DTSTART;VALUE=DATE:20230124
DTEND;VALUE=DATE:20230125
DTSTAMP:20260423T135431
CREATED:20250222T030502Z
LAST-MODIFIED:20250709T203520Z
UID:10000009-1674518400-1674604799@portofportorford.org
SUMMARY:Port Commission Regular Meeting
DESCRIPTION:
URL:https://portofportorford.org/event/port-commission-regular-meeting/
LOCATION:OR
CATEGORIES:Port Commission
END:VEVENT
BEGIN:VEVENT
DTSTART;VALUE=DATE:20230124
DTEND;VALUE=DATE:20230125
DTSTAMP:20260423T135431
CREATED:20250222T025622Z
LAST-MODIFIED:20250222T025622Z
UID:10000006-1674518400-1674604799@portofportorford.org
SUMMARY:Port Ordinance Workshop
DESCRIPTION:
URL:https://portofportorford.org/event/port-ordinance-workshop/
LOCATION:OR
END:VEVENT
BEGIN:VEVENT
DTSTART;TZID=America/Los_Angeles:20220816T180000
DTEND;TZID=America/Los_Angeles:20220816T193000
DTSTAMP:20260423T135431
CREATED:20220710T225421Z
LAST-MODIFIED:20250709T203541Z
UID:10000003-1660672800-1660678200@portofportorford.org
SUMMARY:Commission Meeting
DESCRIPTION:Gable Chambers
URL:https://portofportorford.org/event/commission-meeting-2/
LOCATION:Port Orford City Hall\, 555 20th St\, Port Orford\, OR\, 97465\, United States
CATEGORIES:Port Commission
END:VEVENT
BEGIN:VEVENT
DTSTART;TZID=America/Los_Angeles:20220719T110000
DTEND;TZID=America/Los_Angeles:20220719T123000
DTSTAMP:20260423T135431
CREATED:20220711T053126Z
LAST-MODIFIED:20250709T203547Z
UID:10000004-1658228400-1658233800@portofportorford.org
SUMMARY:Commission Meeting
DESCRIPTION:Gable Chambers
URL:https://portofportorford.org/event/commission-meeting/
LOCATION:Port Orford City Hall\, 555 20th St\, Port Orford\, OR\, 97465\, United States
CATEGORIES:Port Commission
END:VEVENT
END:VCALENDAR