BEGIN:VCALENDAR
VERSION:2.0
PRODID:-//Port of Port Orford - ECPv6.15.20//NONSGML v1.0//EN
CALSCALE:GREGORIAN
METHOD:PUBLISH
X-WR-CALNAME:Port of Port Orford
X-ORIGINAL-URL:https://portofportorford.org
X-WR-CALDESC:Events for Port of Port Orford
REFRESH-INTERVAL;VALUE=DURATION:PT1H
X-Robots-Tag:noindex
X-PUBLISHED-TTL:PT1H
BEGIN:VTIMEZONE
TZID:America/Los_Angeles
BEGIN:DAYLIGHT
TZOFFSETFROM:-0800
TZOFFSETTO:-0700
TZNAME:PDT
DTSTART:20240310T100000
END:DAYLIGHT
BEGIN:STANDARD
TZOFFSETFROM:-0700
TZOFFSETTO:-0800
TZNAME:PST
DTSTART:20241103T090000
END:STANDARD
BEGIN:DAYLIGHT
TZOFFSETFROM:-0800
TZOFFSETTO:-0700
TZNAME:PDT
DTSTART:20250309T100000
END:DAYLIGHT
BEGIN:STANDARD
TZOFFSETFROM:-0700
TZOFFSETTO:-0800
TZNAME:PST
DTSTART:20251102T090000
END:STANDARD
BEGIN:DAYLIGHT
TZOFFSETFROM:-0800
TZOFFSETTO:-0700
TZNAME:PDT
DTSTART:20260308T100000
END:DAYLIGHT
BEGIN:STANDARD
TZOFFSETFROM:-0700
TZOFFSETTO:-0800
TZNAME:PST
DTSTART:20261101T090000
END:STANDARD
END:VTIMEZONE
BEGIN:VEVENT
DTSTART;TZID=America/Los_Angeles:20251202T180000
DTEND;TZID=America/Los_Angeles:20251202T193000
DTSTAMP:20260423T153212
CREATED:20251128T210440Z
LAST-MODIFIED:20260121T203632Z
UID:10000047-1764698400-1764703800@portofportorford.org
SUMMARY:Port Revitalization Committee Workshop + Supplemental Seawater System RFP Review
DESCRIPTION:
URL:https://portofportorford.org/event/port-revitalization-committee-workshop-supplemental-seawater-system-rfp-review/
LOCATION:OSU Port Orford Field Station\, 444 Jackson Street\, Port Orford\, OR\, 97465\, United States
CATEGORIES:Port Development
END:VEVENT
END:VCALENDAR