BEGIN:VCALENDAR
VERSION:2.0
PRODID:-//Port of Port Orford - ECPv6.15.20//NONSGML v1.0//EN
CALSCALE:GREGORIAN
METHOD:PUBLISH
X-WR-CALNAME:Port of Port Orford
X-ORIGINAL-URL:https://portofportorford.org
X-WR-CALDESC:Events for Port of Port Orford
REFRESH-INTERVAL;VALUE=DURATION:PT1H
X-Robots-Tag:noindex
X-PUBLISHED-TTL:PT1H
BEGIN:VTIMEZONE
TZID:America/Los_Angeles
BEGIN:DAYLIGHT
TZOFFSETFROM:-0800
TZOFFSETTO:-0700
TZNAME:PDT
DTSTART:20240310T100000
END:DAYLIGHT
BEGIN:STANDARD
TZOFFSETFROM:-0700
TZOFFSETTO:-0800
TZNAME:PST
DTSTART:20241103T090000
END:STANDARD
BEGIN:DAYLIGHT
TZOFFSETFROM:-0800
TZOFFSETTO:-0700
TZNAME:PDT
DTSTART:20250309T100000
END:DAYLIGHT
BEGIN:STANDARD
TZOFFSETFROM:-0700
TZOFFSETTO:-0800
TZNAME:PST
DTSTART:20251102T090000
END:STANDARD
BEGIN:DAYLIGHT
TZOFFSETFROM:-0800
TZOFFSETTO:-0700
TZNAME:PDT
DTSTART:20260308T100000
END:DAYLIGHT
BEGIN:STANDARD
TZOFFSETFROM:-0700
TZOFFSETTO:-0800
TZNAME:PST
DTSTART:20261101T090000
END:STANDARD
END:VTIMEZONE
BEGIN:VEVENT
DTSTART;TZID=America/Los_Angeles:20250805T180000
DTEND;TZID=America/Los_Angeles:20250805T190000
DTSTAMP:20260423T110655
CREATED:20250731T224246Z
LAST-MODIFIED:20251211T231909Z
UID:10000034-1754416800-1754420400@portofportorford.org
SUMMARY:Port Special Commission Meeting
DESCRIPTION:Join us for an August Special Port Commission Meeting to discuss the Crane Replacement Project and more. The meeting will be held online or in person at the OSU Port Orford Field Station. See the agenda for details.
URL:https://portofportorford.org/event/port-special-commission-meeting-5/
LOCATION:OSU Port Orford Field Station\, 444 Jackson Street\, Port Orford\, OR\, 97465\, United States
CATEGORIES:Port Commission
END:VEVENT
BEGIN:VEVENT
DTSTART;TZID=America/Los_Angeles:20250722T180000
DTEND;TZID=America/Los_Angeles:20250722T190000
DTSTAMP:20260423T110655
CREATED:20250716T174249Z
LAST-MODIFIED:20251211T231816Z
UID:10000033-1753207200-1753210800@portofportorford.org
SUMMARY:Port Special Commission Meeting
DESCRIPTION:Join us for a July Special Port Commission Meeting to discuss utility hoist procurement and ice machines. The meeting will be held online or in person at the OSU Port Orford Field Station. See the agenda for details.
URL:https://portofportorford.org/event/port-special-commission-meeting-4/
LOCATION:OSU Port Orford Field Station\, 444 Jackson Street\, Port Orford\, OR\, 97465\, United States
CATEGORIES:Port Commission
END:VEVENT
BEGIN:VEVENT
DTSTART;TZID=America/Los_Angeles:20250710T150000
DTEND;TZID=America/Los_Angeles:20250710T180000
DTSTAMP:20260423T110655
CREATED:20250707T213207Z
LAST-MODIFIED:20251211T231735Z
UID:10000030-1752159600-1752170400@portofportorford.org
SUMMARY:Port Special Commission Meeting
DESCRIPTION:Join us for a July Special Port Commission Meeting to discuss product hoists and the Energy Technology Innovation Partnership Project (ETIPP). The meeting will be held online or in person at the OSU Port Orford Field Station. See the agenda for details.
URL:https://portofportorford.org/event/port-special-commission-meeting-3/
LOCATION:OSU Port Orford Field Station\, 444 Jackson Street\, Port Orford\, OR\, 97465\, United States
CATEGORIES:Port Commission
END:VEVENT
BEGIN:VEVENT
DTSTART;TZID=America/Los_Angeles:20250701T180000
DTEND;TZID=America/Los_Angeles:20250701T200000
DTSTAMP:20260423T110655
CREATED:20250630T225546Z
LAST-MODIFIED:20250709T203157Z
UID:10000029-1751392800-1751400000@portofportorford.org
SUMMARY:July Port Redevelopment Committee Meeting
DESCRIPTION:The Redevelopment Committee holds monthly meetings to ensure continuous progress and integration of redevelopment projects which comprise the Port’s Redevelopment Program\, “Revitalizing Port Orford’s Working Waterfront\,” as outlined in the Port’s Capital Improvement Plan Priorities for 2025. \nJoin us for the July meeting\, held at the OSU Port Orford Field Station. Discussion will focus on updates and site planning. See agenda for more details.
URL:https://portofportorford.org/event/july-port-redevelopment-committee-meeting/
LOCATION:OSU Port Orford Field Station\, 444 Jackson Street\, Port Orford\, OR\, 97465\, United States
CATEGORIES:Port Development
END:VEVENT
BEGIN:VEVENT
DTSTART;TZID=America/Los_Angeles:20250624T180000
DTEND;TZID=America/Los_Angeles:20250624T190000
DTSTAMP:20260423T110655
CREATED:20250621T013215Z
LAST-MODIFIED:20251211T231655Z
UID:10000028-1750788000-1750791600@portofportorford.org
SUMMARY:Port Budget Hearing
DESCRIPTION:A public meeting of the Port of Port Orford will be held at The OSU Field Station at 444 Jackson St.\, Port Orford\, OR 97465 on Tuesday\, June 24 at 6pm and virtually\, at meet.google.com/uag-ohcv-uso. The purpose of this meeting is to discuss the budget for the fiscal year beginning July 1\, 2025. A copy of the budget may be inspected or obtained at 300 Dock Rd\, between the hours of 9:00a.m. and 5:00 p.m. or online at www.portofportorford.org. This budget is for an annual budget period. This budget was prepared on a basis of accounting that is the same as used the preceding year.
URL:https://portofportorford.org/event/port-budget-hearing/
LOCATION:OSU Port Orford Field Station\, 444 Jackson Street\, Port Orford\, OR\, 97465\, United States
CATEGORIES:Budgeting
END:VEVENT
BEGIN:VEVENT
DTSTART;TZID=America/Los_Angeles:20250610T180000
DTEND;TZID=America/Los_Angeles:20250610T190000
DTSTAMP:20260423T110655
CREATED:20250605T012211Z
LAST-MODIFIED:20251211T231537Z
UID:10000025-1749578400-1749582000@portofportorford.org
SUMMARY:Port Budget Committee Meeting
DESCRIPTION:Join us on June 10\, 2025\, for the Port Budget Committee Meeting\, which will be held online and in person at the OSU Port Orford Field Station. The attached agenda provides more details.
URL:https://portofportorford.org/event/port-budget-committee-meeting-3/
LOCATION:OSU Port Orford Field Station\, 444 Jackson Street\, Port Orford\, OR\, 97465\, United States
CATEGORIES:Budgeting
END:VEVENT
BEGIN:VEVENT
DTSTART;TZID=America/Los_Angeles:20250610T173000
DTEND;TZID=America/Los_Angeles:20250610T180000
DTSTAMP:20260423T110655
CREATED:20250606T224154Z
LAST-MODIFIED:20250709T203244Z
UID:10000027-1749576600-1749578400@portofportorford.org
SUMMARY:Port Special Commission Meeting
DESCRIPTION:Join us for a June Special Port Commission Meeting to discuss audits. The meeting will be held online or in person at the OSU Port Orford Field Station. See the agenda for details.
URL:https://portofportorford.org/event/port-special-commission-meeting-2/
LOCATION:OSU Port Orford Field Station\, 444 Jackson Street\, Port Orford\, OR\, 97465\, United States
CATEGORIES:Port Commission
END:VEVENT
BEGIN:VEVENT
DTSTART;TZID=America/Los_Angeles:20250603T180000
DTEND;TZID=America/Los_Angeles:20250603T200000
DTSTAMP:20260423T110655
CREATED:20250602T231555Z
LAST-MODIFIED:20250709T203255Z
UID:10000024-1748973600-1748980800@portofportorford.org
SUMMARY:Special Commission Meeting / Redevelopment Committee Workshop
DESCRIPTION:
URL:https://portofportorford.org/event/special-commission-meeting-redevelopment-committee-workshop/
LOCATION:OSU Port Orford Field Station\, 444 Jackson Street\, Port Orford\, OR\, 97465\, United States
CATEGORIES:Port Commission,Port Development
END:VEVENT
BEGIN:VEVENT
DTSTART;TZID=America/Los_Angeles:20250521T180000
DTEND;TZID=America/Los_Angeles:20250521T190000
DTSTAMP:20260423T110655
CREATED:20250519T175534Z
LAST-MODIFIED:20251211T231252Z
UID:10000021-1747850400-1747854000@portofportorford.org
SUMMARY:Port Special Commission Meeting
DESCRIPTION:Join us for the May Special Port Commission Meeting. Held online or in-person at the OSU Port Orford Field Station. See the agenda for details.
URL:https://portofportorford.org/event/port-special-commission-meeting-may-21-2025-6pm/
LOCATION:OSU Port Orford Field Station\, 444 Jackson Street\, Port Orford\, OR\, 97465\, United States
CATEGORIES:Port Commission
END:VEVENT
BEGIN:VEVENT
DTSTART;TZID=America/Los_Angeles:20250515T180000
DTEND;TZID=America/Los_Angeles:20250515T190000
DTSTAMP:20260423T110655
CREATED:20250510T003231Z
LAST-MODIFIED:20250709T203339Z
UID:10000020-1747332000-1747335600@portofportorford.org
SUMMARY:May Port Redevelopment Committee Meeting
DESCRIPTION:The Redevelopment Committee holds monthly meetings to ensure continuous progress and integration of redevelopment projects which comprise the Port’s Redevelopment Program\, “Revitalizing Port Orford’s Working Waterfront\,” as outlined in the Port’s Capital Improvement Plan Priorities for 2025. \nJoin us for the May meeting\, held at the OSU Port Orford Field Station. Discussion will focus on workshopping the new product hoists. See agenda for more details.
URL:https://portofportorford.org/event/may-port-redevelopment-committee-meeting/
LOCATION:OSU Port Orford Field Station\, 444 Jackson Street\, Port Orford\, OR\, 97465\, United States
CATEGORIES:Port Development
END:VEVENT
BEGIN:VEVENT
DTSTART;TZID=America/Los_Angeles:20250409T180000
DTEND;TZID=America/Los_Angeles:20250409T190000
DTSTAMP:20260423T110655
CREATED:20250409T174240Z
LAST-MODIFIED:20250709T203416Z
UID:10000015-1744221600-1744225200@portofportorford.org
SUMMARY:April Port Redevelopment Committee Meeting
DESCRIPTION:The Redevelopment Committee holds monthly meetings to ensure continuous progress and integration of redevelopment projects which comprise the Port’s Redevelopment Program\, “Revitalizing Port Orford’s Working Waterfront\,” as outlined in the Port’s Capital Improvement Plan Priorities for 2025.
URL:https://portofportorford.org/event/april-port-redevelopment-committee-meeting/
LOCATION:OSU Port Orford Field Station\, 444 Jackson Street\, Port Orford\, OR\, 97465\, United States
CATEGORIES:Port Development
END:VEVENT
END:VCALENDAR